BEGIN:VCALENDAR
VERSION:2.0
PRODID:-//hacksw/handcal//NONSGML v1.0//EN
BEGIN:VEVENT
SUMMARY:Marche du lundi apres midi
UID:ae0a8c33-626d-4975-9f64-f7be48905ddd
DTSTART:20260420T113000Z
DTEND:20260420T143000Z
LOCATION:Localisation parking du Nancon 35 Fougeres
CATEGORIES:Sportif
STATUS:
URL;VALUE=URI:https://www.100km-marche-nordique-fougeres.fr/evenements/2026/04/20/marche-du-lundi-apres-midi-2442916
END:VEVENT
END:VCALENDAR
