BEGIN:VCALENDAR
VERSION:2.0
PRODID:-//hacksw/handcal//NONSGML v1.0//EN
BEGIN:VEVENT
SUMMARY:Sortie jeudi aprem ANNLEE
UID:db31940e-a607-424e-a6ff-0883d2988fe4
DTSTART:20260423T113000Z
DTEND:20260423T143000Z
LOCATION:Localisation 72 rte forestiere des druides 35233 Landean
CATEGORIES:Sportif
STATUS:
URL;VALUE=URI:https://www.100km-marche-nordique-fougeres.fr/evenements/2026/04/23/sortie-jeudi-aprem-annlee-2443966
END:VEVENT
END:VCALENDAR
