BEGIN:VCALENDAR
VERSION:2.0
PRODID:-//hacksw/handcal//NONSGML v1.0//EN
BEGIN:VEVENT
SUMMARY:Sortie du lundi apres-midi
UID:b200ca46-8859-429e-8b86-8d19561754be
DTSTART:20260427T113000Z
DTEND:20260427T143000Z
LOCATION:Localisation   
CATEGORIES:Sportif
STATUS:
DESCRIPTION:<p><strong><span style="font-size:14px;">COCHER SI
 PRESENT(E) </span></strong></p>
 
URL;VALUE=URI:https://www.100km-marche-nordique-fougeres.fr/evenements/2026/04/27/sortie-du-lundi-apres-midi-2281825
END:VEVENT
END:VCALENDAR
